Workbook

Sheet Dados do teste
A1: Teste de bombeamento: dados do poço e do teste
A2: Modelo gratuito: sispocos.com/planilha-de-teste-de-bombeamento/. Células amarelas = preencher.
A4: Campo | B4: Valor | C4: Unidade / nota
A5: Cliente
A6: Poço / identificação
A7: Município / UF
A8: Coordenadas
A9: Profundidade do poço (m)
A10: Diâmetro do revestimento
A11: Tipo de teste | B11: Vazão constante
A12: Data e hora de início
A13: Nível estático - NE (m) | C13: medido antes de ligar a bomba
A14: Profundidade da bomba (m)
A15: Vazão do teste - Q (m³/h) | C15: mantenha a vazão constante
A16: Como a vazão foi medida
A17: Operador
A18: Responsável técnico
A19: Observações

Sheet Bombeamento
A1: Leituras do bombeamento
A2: Modelo gratuito: sispocos.com/planilha-de-teste-de-bombeamento/. Células amarelas = preencher.
A4: Tempo desde o início (min) | B4: Hora da leitura | C4: Nível da água (m) | D4: Rebaixamento s (m) | E4: Vazão medida (m³/h) | F4: Observação | G4: s para o gráfico
A5: 0 | D5: =IF(OR(C5="",'Dados do teste'!$B$13=""),"",C5-'Dados do teste'!$B$13) | G5: =IF(OR(C5="",'Dados do teste'!$B$13=""),NA(),C5-'Dados do teste'!$B$13)
A6: 1 | D6: =IF(OR(C6="",'Dados do teste'!$B$13=""),"",C6-'Dados do teste'!$B$13) | G6: =IF(OR(C6="",'Dados do teste'!$B$13=""),NA(),C6-'Dados do teste'!$B$13)
A7: 2 | D7: =IF(OR(C7="",'Dados do teste'!$B$13=""),"",C7-'Dados do teste'!$B$13) | G7: =IF(OR(C7="",'Dados do teste'!$B$13=""),NA(),C7-'Dados do teste'!$B$13)
A8: 3 | D8: =IF(OR(C8="",'Dados do teste'!$B$13=""),"",C8-'Dados do teste'!$B$13) | G8: =IF(OR(C8="",'Dados do teste'!$B$13=""),NA(),C8-'Dados do teste'!$B$13)
A9: 4 | D9: =IF(OR(C9="",'Dados do teste'!$B$13=""),"",C9-'Dados do teste'!$B$13) | G9: =IF(OR(C9="",'Dados do teste'!$B$13=""),NA(),C9-'Dados do teste'!$B$13)
A10: 5 | D10: =IF(OR(C10="",'Dados do teste'!$B$13=""),"",C10-'Dados do teste'!$B$13) | G10: =IF(OR(C10="",'Dados do teste'!$B$13=""),NA(),C10-'Dados do teste'!$B$13)
A11: 6 | D11: =IF(OR(C11="",'Dados do teste'!$B$13=""),"",C11-'Dados do teste'!$B$13) | G11: =IF(OR(C11="",'Dados do teste'!$B$13=""),NA(),C11-'Dados do teste'!$B$13)
A12: 8 | D12: =IF(OR(C12="",'Dados do teste'!$B$13=""),"",C12-'Dados do teste'!$B$13) | G12: =IF(OR(C12="",'Dados do teste'!$B$13=""),NA(),C12-'Dados do teste'!$B$13)
A13: 10 | D13: =IF(OR(C13="",'Dados do teste'!$B$13=""),"",C13-'Dados do teste'!$B$13) | G13: =IF(OR(C13="",'Dados do teste'!$B$13=""),NA(),C13-'Dados do teste'!$B$13)
A14: 12 | D14: =IF(OR(C14="",'Dados do teste'!$B$13=""),"",C14-'Dados do teste'!$B$13) | G14: =IF(OR(C14="",'Dados do teste'!$B$13=""),NA(),C14-'Dados do teste'!$B$13)
A15: 15 | D15: =IF(OR(C15="",'Dados do teste'!$B$13=""),"",C15-'Dados do teste'!$B$13) | G15: =IF(OR(C15="",'Dados do teste'!$B$13=""),NA(),C15-'Dados do teste'!$B$13)
A16: 20 | D16: =IF(OR(C16="",'Dados do teste'!$B$13=""),"",C16-'Dados do teste'!$B$13) | G16: =IF(OR(C16="",'Dados do teste'!$B$13=""),NA(),C16-'Dados do teste'!$B$13)
... A41: 1440 | D41: =IF(OR(C41="",'Dados do teste'!$B$13=""),"",C41-'Dados do teste'!$B$13) | G41: =IF(OR(C41="",'Dados do teste'!$B$13=""),NA(),C41-'Dados do teste'!$B$13)

Sheet Recuperação
A1: Leituras da recuperação (depois de desligar a bomba)
A2: Modelo gratuito: sispocos.com/planilha-de-teste-de-bombeamento/. Células amarelas = preencher.
A3: Nível dinâmico no fim do bombeamento (m): | D3: =IFERROR(INDEX(Bombeamento!C5:C41,MATCH(9.99E+307,Bombeamento!C5:C41)),"")
A4: Tempo desde que desligou t' (min) | B4: Hora da leitura | C4: Nível da água (m) | D4: Rebaixamento residual (m) | E4: Recuperação (%) | F4: Observação
A5: 1 | D5: =IF(OR(C5="",'Dados do teste'!$B$13=""),"",C5-'Dados do teste'!$B$13) | E5: =IF(OR(C5="",$D$3="",'Dados do teste'!$B$13=""),"",($D$3-C5)/($D$3-'Dados do teste'!$B$13))
A6: 2 | D6: =IF(OR(C6="",'Dados do teste'!$B$13=""),"",C6-'Dados do teste'!$B$13) | E6: =IF(OR(C6="",$D$3="",'Dados do teste'!$B$13=""),"",($D$3-C6)/($D$3-'Dados do teste'!$B$13))
A7: 3 | D7: =IF(OR(C7="",'Dados do teste'!$B$13=""),"",C7-'Dados do teste'!$B$13) | E7: =IF(OR(C7="",$D$3="",'Dados do teste'!$B$13=""),"",($D$3-C7)/($D$3-'Dados do teste'!$B$13))
A8: 4 | D8: =IF(OR(C8="",'Dados do teste'!$B$13=""),"",C8-'Dados do teste'!$B$13) | E8: =IF(OR(C8="",$D$3="",'Dados do teste'!$B$13=""),"",($D$3-C8)/($D$3-'Dados do teste'!$B$13))
A9: 5 | D9: =IF(OR(C9="",'Dados do teste'!$B$13=""),"",C9-'Dados do teste'!$B$13) | E9: =IF(OR(C9="",$D$3="",'Dados do teste'!$B$13=""),"",($D$3-C9)/($D$3-'Dados do teste'!$B$13))
A10: 6 | D10: =IF(OR(C10="",'Dados do teste'!$B$13=""),"",C10-'Dados do teste'!$B$13) | E10: =IF(OR(C10="",$D$3="",'Dados do teste'!$B$13=""),"",($D$3-C10)/($D$3-'Dados do teste'!$B$13))
A11: 8 | D11: =IF(OR(C11="",'Dados do teste'!$B$13=""),"",C11-'Dados do teste'!$B$13) | E11: =IF(OR(C11="",$D$3="",'Dados do teste'!$B$13=""),"",($D$3-C11)/($D$3-'Dados do teste'!$B$13))
A12: 10 | D12: =IF(OR(C12="",'Dados do teste'!$B$13=""),"",C12-'Dados do teste'!$B$13) | E12: =IF(OR(C12="",$D$3="",'Dados do teste'!$B$13=""),"",($D$3-C12)/($D$3-'Dados do teste'!$B$13))
A13: 12 | D13: =IF(OR(C13="",'Dados do teste'!$B$13=""),"",C13-'Dados do teste'!$B$13) | E13: =IF(OR(C13="",$D$3="",'Dados do teste'!$B$13=""),"",($D$3-C13)/($D$3-'Dados do teste'!$B$13))
A14: 15 | D14: =IF(OR(C14="",'Dados do teste'!$B$13=""),"",C14-'Dados do teste'!$B$13) | E14: =IF(OR(C14="",$D$3="",'Dados do teste'!$B$13=""),"",($D$3-C14)/($D$3-'Dados do teste'!$B$13))
A15: 20 | D15: =IF(OR(C15="",'Dados do teste'!$B$13=""),"",C15-'Dados do teste'!$B$13) | E15: =IF(OR(C15="",$D$3="",'Dados do teste'!$B$13=""),"",($D$3-C15)/($D$3-'Dados do teste'!$B$13))
A16: 25 | D16: =IF(OR(C16="",'Dados do teste'!$B$13=""),"",C16-'Dados do teste'!$B$13) | E16: =IF(OR(C16="",$D$3="",'Dados do teste'!$B$13=""),"",($D$3-C16)/($D$3-'Dados do teste'!$B$13))
... A28: 240 | D28: =IF(OR(C28="",'Dados do teste'!$B$13=""),"",C28-'Dados do teste'!$B$13) | E28: =IF(OR(C28="",$D$3="",'Dados do teste'!$B$13=""),"",($D$3-C28)/($D$3-'Dados do teste'!$B$13))

Sheet Resultados
A1: Resultados do teste
A2: Modelo gratuito: sispocos.com/planilha-de-teste-de-bombeamento/. Células amarelas = preencher.
A4: Resultado | B4: Valor | C4: Como é calculado
A5: Nível estático - NE (m) | B5: =IF('Dados do teste'!$B$13="","",'Dados do teste'!$B$13) | C5: Aba Dados do teste
A6: Nível dinâmico final - ND (m) | B6: =Recuperação!D3 | C6: Última leitura de nível do bombeamento
A7: Rebaixamento - s (m) | B7: =IF(OR(B5="",B6=""),"",B6-B5) | C7: s = ND − NE
A8: Vazão do teste - Q (m³/h) | B8: =IF('Dados do teste'!$B$15="","",'Dados do teste'!$B$15) | C8: Aba Dados do teste
A9: Vazão específica - Q/s (m³/h/m) | B9: =IF(OR(B7="",B8="",B7=0),"",B8/B7) | C9: Q ÷ s (anote com qual vazão e depois de quanto tempo)
A10: Vazão específica (L/s/m) | B10: =IF(B9="","",B9/3.6) | C10: m³/h/m ÷ 3,6
A11: Recuperação na última leitura (%) | B11: =IFERROR(INDEX(Recuperação!E5:E28,MATCH(9.99E+307,Recuperação!E5:E28)),"") | C11: (ND − nível) ÷ (ND − NE)
A13: A interpretação hidráulica (transmissividade por Cooper-Jacob, perdas no escalonado) é trabalho do geólogo. No SisPoços esses cálculos, os gráficos e o relatório em PDF saem sozinhos: sispocos.com/funcoes/teste-de-bombeamento-de-poco/

Sheet Folha de campo
A1: Folha de campo do teste de bombeamento (imprimir)
A2: Modelo gratuito: sispocos.com/planilha-de-teste-de-bombeamento/. Células amarelas = preencher.
A3: Poço: ____________________ Data: ___/___/_____ NE: ______ m Vazão: ______ m³/h Operador: ______________
A5: Tempo (min) | B5: Hora | C5: Nível (m) | D5: Vazão (m³/h) | E5: Observação
A6: 0
A7: 1
A8: 2
A9: 3
A10: 4
A11: 5
A12: 6
A13: 8
A14: 10
A15: 12
A16: 15
A17: 20
... A42: 1440
